BEGIN:VCALENDAR
VERSION:2.0
PRODID:-//Trouwbeleving - ECPv6.3.7//NONSGML v1.0//EN
CALSCALE:GREGORIAN
METHOD:PUBLISH
X-ORIGINAL-URL:https://www.trouwbeleving.nl
X-WR-CALDESC:Evenementen voor Trouwbeleving
REFRESH-INTERVAL;VALUE=DURATION:PT1H
X-Robots-Tag:noindex
X-PUBLISHED-TTL:PT1H
BEGIN:VTIMEZONE
TZID:Europe/Amsterdam
BEGIN:DAYLIGHT
TZOFFSETFROM:+0100
TZOFFSETTO:+0200
TZNAME:CEST
DTSTART:20260329T010000
END:DAYLIGHT
BEGIN:STANDARD
TZOFFSETFROM:+0200
TZOFFSETTO:+0100
TZNAME:CET
DTSTART:20261025T010000
END:STANDARD
END:VTIMEZONE
BEGIN:VEVENT
DTSTART;TZID=Europe/Amsterdam:20260927T110000
DTEND;TZID=Europe/Amsterdam:20260927T150000
DTSTAMP:20260424T174108
CREATED:20260214T110837Z
LAST-MODIFIED:20260410T104517Z
UID:15158-1790506800-1790521200@www.trouwbeleving.nl
SUMMARY:Trouwbeleving @Zwitsal Fabriek in Apeldoorn
DESCRIPTION:Trouwbeleving @Zwitsal Fabriek in Apeldoorn\n\n\n                \n                        \n							"*" geeft vereiste velden aan \n                         \n \n                        TicketsReguliere tickets Aantal\n					\n					\n						Prijs:\n						€ 0\,00\n					\n					\n					 Aantal \n				Voornaam*TelefoonnummerE-mailadres*Trouwdatum\n                            \n                            DD slash MM slash JJJJ\n                        \n                        Wij hebben interesse in de volgende categorieën\n								\n								App\n							\n								\n								Ballonnen\n							\n								\n								Beauty\n							\n								\n								Bloemen\n							\n								\n								Bruidsmode\n							\n								\n								Bruidstaarten\n							\n								\n								Catering\n							\n								\n								Cocktails\n							\n								\n								Dansschool\n							\n								\n								Decoratie\n							\n								\n								Drukwerk\n							\n								\n								Edelsmid\n							\n								\n								Foodtrucks\n							\n								\n								Fotografie\n							\n								\n								Gastenboek\n							\n								\n								Herenmode\n							\n								\n								Huwelijksreizen\n							\n								\n								Kinderbruidsmode\n							\n								\n								Kindervermaak\n							\n								\n								Live muziek\n							\n								\n								Locaties\n							\n								\n								Magazines\n							\n								\n								Meubilair\n							\n								\n								Muziek en entertainment\n							\n								\n								Photobooth\n							\n								\n								Schoenen\n							\n								\n								Styling\n							\n								\n								Sweet table\n							\n								\n								Trouwambtenaar\n							\n								\n								Trouwen buitenland\n							\n								\n								Trouwkaarten\n							\n								\n								Trouwringen en sieraden\n							\n								\n								Trouwvervoer\n							\n								\n								Verzekeringen\n							\n								\n								Videograaf\n							\n								\n								Website\n							\n								\n								Weddingplanner\n							Proud vendor codeHeb je een code ontvangen van een standhouder? Vul deze dan hier in.Partners*\n								\n								Ik ga akkoord dat mijn gegevens gedeeld kunnen worden met partners (voor bijvoorbeeld winacties)\n							Dit veld is verborgen bij het bekijken van het formulierapi-key\n          \n            \n            \n            \n            \n            \n            \n            \n            \n            \n            \n            \n            \n            \n        \n                        \n                        \n\nDe allerleukste trouwbeurs in de omgeving van Apeldoorn komt er weer aan!\nOntmoet de leukste trouwleveranciers\, beleef Trouwbeleving; The Wedding Experience! Scoor nu jouw gratis tickets incl. goodiebag met o.a. het Bruid & Bruidegom Magazine\, het magazine van The Perfect Wedding & TROUWEN magazine van Girls of Honour. \nBeleef\, ontdek en geniet\nTijdens dit trouwevent kunnen jullie écht de sfeer proeven. Ontdek hoe professionele trouwleveranciers jullie dag onvergetelijk kunnen maken\, stel vragen\, laat je inspireren en zie welke mogelijkheden er allemaal zijn voor jullie huwelijk. \nTrouwbeleving; The Wedding Experience\n45 minuten inspiratie gecombineerd met een mini real life ceremonie\nNieuwsgierig hoe jullie perfecte trouwdag eruit kan zien? Tijdens Trouwbeleving; The Wedding Experience van circa 45 minuten nemen experts uit de trouwbranche jullie stap voor stap mee. Ze delen waardevolle tips\, ideeën en inzichten zodat jullie na afloop precies weten hoe jullie de bruiloft persoonlijk\, uniek en helemaal passend bij jullie kunnen invullen.\nTijd Trouwbeleving; The Wedding Experience: 12.30 uur. \nGratis entree inclusief gratis drankje en gratis goodiebag!\nWij hebben voor de eerste 200 bruidsparen die zich aanmelden een extra goed gevulde goodiebag vol magazines\, inspiratie\, goodies en actiecodes samengesteld! Maar geen zorgen: ook daarna zorgen wij ervoor dat er voor ieder bruidspaar een mooie goodiebag klaarligt.\nWil jij verzekerd zijn van deze toffe goodiebag? Registreer je dan snel voor je gratis ticket! \nZondag 27 september 2026 bij de Zwitsal Fabriek in Apeldoorn!\nZien we jullie daar? Scoor nu jouw GRATIS tickets! \nDeelnemers\nAppBallonnenBeautyBeursdeelnemerBloemenBruidsmodeBruidstaartenCateringCocktailsDansschoolDecoratieDrukwerkEdelsmidFoodtrucksFotografieGastenboekHerenmodeHuwelijksreizenKinderbruidsmodeKindervermaakLichtlettersLiefdes- en relatietherapieLive EntertainmentLive muziekLocatiesMagazinesMeubilairMuziek en entertainmentPartnersPhotoboothSchoenenSieradenStylingSweet tableTrouwambtenaarTrouwen buitenlandTrouwkaartenTrouwringen en sieradenTrouwvervoerVideograafWebsitesWeddingplannersEppel FotografieLandelijkhomeralf@eppel.nlINTERNETWebsite: www.eppel.nlLibelle trouwauto’slandelijkhomeerik.ketelaars@gmail.comINTERNETOFM.Landelijk (24 winkels)homeinfo@onlyformen.nlINTERNETWebsite: www.onlyformen.nlThrough Blue EyesLandelijkhomebianca@tbeweddings.comINTERNETWebsite: www.tbeweddings.comTimeline WeddingsLandelijkhomeinfo@timelineweddings.nlINTERNETWebsite: www.timelineweddings.nlTrommelverliesLandelijkhomeinfo@trommelverlies.nlINTERNETWebsite: www.trommelverlies.nl\nPartners\nBruid & Bruidegom MagazineAmersfoortworkinfo@bruidmedia.nlINTERNETWebsite: www.bruidenbruidegom.nlMDS ProductionsLandelijkhomeinfo@mdsproductions.nlINTERNETWebsite: MDS Productions\n  \n 
URL:https://www.trouwbeleving.nl/trouwbeurs/trouwbeleving-zwitsal-fabriek-in-apeldoorn-zondag-27-september-2026/
LOCATION:Zwitsal Fabriek Apeldoorn\, Vlijtseweg 118\, Apeldoorn\, 7317 AK\, Nederland
CATEGORIES:Bruidsbeurs
ATTACH;FMTTYPE=image/jpeg:https://www.trouwbeleving.nl/wp-content/uploads/2026/02/250928-HejFotografie-489A0347.jpg
END:VEVENT
END:VCALENDAR